BEGIN:VCALENDAR
VERSION:2.0
PRODID:-//SSCX International | Lean Six Sigma | Consulting Partner - ECPv6.15.20//NONSGML v1.0//EN
CALSCALE:GREGORIAN
METHOD:PUBLISH
X-ORIGINAL-URL:https://sscxinternational.com
X-WR-CALDESC:Events for SSCX International | Lean Six Sigma | Consulting Partner
REFRESH-INTERVAL;VALUE=DURATION:PT1H
X-Robots-Tag:noindex
X-PUBLISHED-TTL:PT1H
BEGIN:VTIMEZONE
TZID:UTC
BEGIN:STANDARD
TZOFFSETFROM:+0000
TZOFFSETTO:+0000
TZNAME:UTC
DTSTART:20250101T000000
END:STANDARD
END:VTIMEZONE
BEGIN:VEVENT
DTSTART;TZID=UTC:20260608T090000
DTEND;TZID=UTC:20260609T160000
DTSTAMP:20260422T182604
CREATED:20250729T010222Z
LAST-MODIFIED:20260422T092408Z
UID:712-1780909200-1781020800@sscxinternational.com
SUMMARY:Lean Six Sigma White Belt Certification
DESCRIPTION:Langkah Pertama Menuju Perbaikan Proses yang Lebih Efisien & Efektif \n\n\nLean Six Sigma White Belt adalah level dasar dari pelatihan Continuous Improvement yang memperkenalkan: \n\n\nApa itu Lean dan Six Sigma \n\n\nKonsep pemborosan (waste) dan variasi proses \n\n\nPengantar metode DMAIC \n\n\nMindset problem solving dan keterlibatan individu dalam improvement \n\n\nPeran dasar White Belt sebagai change supporter \n\n\nPelatihan ini adalah pondasi awal untuk membangun budaya perbaikan berkelanjutan di seluruh level organisasi. \n\n\n\n\n\nMengapa Pelatihan Ini Penting?\nKarena perbaikan proses dimulai dari awareness individu.Pelatihan ini membantu peserta untuk: \n\n\nMengenali pemborosan di pekerjaan sehari-hari \n\n\nMemahami mengapa proses harus terus ditingkatkan \n\n\nMembangun kebiasaan berpikir kritis & kolaboratif \n\n\nSiap terlibat dalam proyek-proyek kecil atau inisiatif lean \n\n\nWhite Belt adalah langkah awal untuk menciptakan organisasi yang lean dan berorientasi pada pelanggan. \n\n\n\n\n\n\n\n\n\n\nMulai Perjalanan Lean Anda dari Langkah yang Benar\n\n\n\nSetiap perubahan besar dimulai dari pemahaman kecil yang benar.Bantu tim Anda memahami pentingnya efisiensi dan kualitas sejak hari pertama. \n\n\n\n\n\n\n\n			\n				\n					\n				\n					\n				\n			Download Brochure\n				\n			\n		\n			\n				\n					\n				\n					\n				\n			Register Now
URL:https://sscxinternational.com/event/lean-six-sigma-white-belt-certification/
LOCATION:Jakarta
CATEGORIES:Offline
ATTACH;FMTTYPE=image/jpeg:https://sscxinternational.com/wp-content/uploads/2025/07/Card-PT-LSS-WB.webp
END:VEVENT
END:VCALENDAR